BEGIN:VCALENDAR
VERSION:2.0
PRODID:-//Hempfield Apothetique - ECPv6.0.12//NONSGML v1.0//EN
CALSCALE:GREGORIAN
METHOD:PUBLISH
X-ORIGINAL-URL:https://hfa.mindstaging.com
X-WR-CALDESC:Events for Hempfield Apothetique
REFRESH-INTERVAL;VALUE=DURATION:PT1H
X-Robots-Tag:noindex
X-PUBLISHED-TTL:PT1H
BEGIN:VTIMEZONE
TZID:America/New_York
BEGIN:DAYLIGHT
TZOFFSETFROM:-0500
TZOFFSETTO:-0400
TZNAME:EDT
DTSTART:20240310T070000
END:DAYLIGHT
BEGIN:STANDARD
TZOFFSETFROM:-0400
TZOFFSETTO:-0500
TZNAME:EST
DTSTART:20241103T060000
END:STANDARD
TZID:UTC
BEGIN:STANDARD
TZOFFSETFROM:+0000
TZOFFSETTO:+0000
TZNAME:UTC
DTSTART:20240101T000000
END:STANDARD
END:VTIMEZONE
BEGIN:VEVENT
DTSTART;TZID=America/New_York:20240301T190000
DTEND;TZID=America/New_York:20240301T203000
DTSTAMP:20260419T112541
CREATED:20231211T163813Z
LAST-MODIFIED:20240228T120856Z
UID:10001846-1709319600-1709325000@hfa.mindstaging.com
SUMMARY:Puff Puff Paint Night | Pot of Gold
DESCRIPTION:Hey there\, creative souls! Mark your calendars because Puff Puff Paint is coming back to light up your artistic spirits on the First Friday in March\, starting at 7 pm until 8:30 pm! \nWHAT: Puff Puff Paint Night \nWHO: Calling all art enthusiasts! Whether you’re a seasoned artist or just discovering your creative side\, everyone’s invited! \nWHEN: First Friday\, March 1\, 2024 from 7 pm – 8:30 pm \nART MEDIUM: Water-based acrylic paint on canvas \nTHEME: “Pot of Gold” \nGet ready for a night filled with vibrant colors and magical moments as Heather Hostetter guides you through turning your ideas into a masterpiece. Let the excitement build\, and let’s create something extraordinary together! \nFeel free to bring your favorite cannabis strain to elevate your artistic experience. Tap into that creative energy\, and let it flow onto your canvas like liquid gold. Enjoy the calming vibes and let your brush dance across the canvas! \nOur mission is more than just art—it’s about fostering a community that celebrates creativity and unity\, one canvas at a time. Come join the fun\, and let’s paint the town green while we search for that “Pot of Gold” together! \nCLASS FEE: $25.00 \nINSTRUCTOR BIO: Heather Hostetter\, MA\, MBA\, ATR-BC\, LPC is a local Art Therapist and artist with over 25 years of helping the community cope and strive towards wellness with the process of creating together. \nMUST BE 18 years or older to attend the class. \n\n\n\nPlease note: This is a cannabis-friendly space; however\, we ask that if you consume medical marijuana (MMJ) on-site\, that you show a valid PA ID and PA MMJ card. All PA MMJ brought into the facility must be in approved PA medical marijuana packaging with the patient’s information clearly visible. All PA MMJ card holders MUST abide by PA MMJ regulations including NO COMBUSTION of PA MMJ. Vaping\, oils\, tinctures\, sprays\, capsules\, and troches are permitted but absolutely no smokable equipment or tools are allowed onsite.
URL:https://hfa.mindstaging.com/event/puff-puff-paint-class_march_2024/
LOCATION:Hempfield Apothetique\, 100 West Walnut Street\, Lancaster\, PA\, 17603\, United States
CATEGORIES:Fun with Cannabis,Wellness Classes
ATTACH;FMTTYPE=image/jpeg:https://hfa.mindstaging.com/wp-content/uploads/2023/12/IMG_0190_edit.jpg
END:VEVENT
BEGIN:VEVENT
DTSTART;TZID=UTC:20240302T103000
DTEND;TZID=UTC:20240302T113000
DTSTAMP:20260419T112541
CREATED:20240110T214028Z
LAST-MODIFIED:20240110T214336Z
UID:10001872-1709375400-1709379000@hfa.mindstaging.com
SUMMARY:Cooking with Cannabis Introduction Class
DESCRIPTION:Blend the magic of cannabis with the craft of cooking in this introductory class that will teach you the basics of cooking with cannabis. Held in our demo kitchen\, we will show you how to make infused butter and oil to give you the building blocks to include hemp in your dishes! \nDecarb & Infuse \nDecarboxylation\, or decarb for short\, is the process of altering the chemical makeup of cannabis to create a potent formula for edibles\, oils\, and salves. During this class\, you’ll learn the decarboxylation process so you can infuse your medical marijuana or hemp flower into foods. \nDosing Edibles \nUnless you invest in an at-home THC tester\, there’s no way to know exactly how potent your infusion is. You can\, however\, do a calculation to get a rough estimate of potency. During this session\, we’ll go over the process of dosing edibles to ensure safe consumption.* \nINSTRUCTOR BIO: As a chronic pain sufferer\, related to spine issues and migraines\, Heather Kreider a Registered Nurse\, knows first-hand how cannabis can help patients live a happier\, healthier life. She is an Medical Marijuana card holder in PA\, cannabis advocate and strives to break the stigma that cannabis users are “a bunch of burnouts.” Heather is also certified in Advanced Cannabis Training and is PA Dispensary Agent Certified. \nHeather also helps patients navigate the process of obtaining a medical marijuana card\, working with dispensaries\, and determining the medical marijuana formulations and application methods that will best target the symptoms they’re experiencing. Her goal is to alleviate the gap in patient education by helping individuals understand the different types of cannabinoids\, terpenes\, and ways to consume medical marijuana. She also helps guide patients in how to safely administer the products they purchase. \n*Basic recipe include. \nNOTE: You do not need to be a PA Medical Marijuana patient to attend the class.
URL:https://hfa.mindstaging.com/event/cooking-with-cannabis-introduction-class-march-2024/
LOCATION:Hempfield Apothetique\, 100 West Walnut Street\, Lancaster\, PA\, 17603\, United States
CATEGORIES:Cooking with Cannabis Classes,Fun with Cannabis
ATTACH;FMTTYPE=image/jpeg:https://hfa.mindstaging.com/wp-content/uploads/2024/01/Copy-of-Hempfield_0285-e1704923004346.jpg
END:VEVENT
BEGIN:VEVENT
DTSTART;TZID=America/New_York:20240315T170000
DTEND;TZID=America/New_York:20240315T190000
DTSTAMP:20260419T112541
CREATED:20240206T195040Z
LAST-MODIFIED:20240314T201142Z
UID:10001886-1710522000-1710529200@hfa.mindstaging.com
SUMMARY:Puff Puff POT-tery Painting
DESCRIPTION:CLASS DESCRIPTION: Imagine crafting your very own smoking accessory—how cool would that be?! Well\, guess what? You totally can! Join us for a POT-tery Paint Night hosted by The Glazing Sun. Take your pick from a variety of bowls or water pipes to paint\, and let your creativity run wild with our wide selection of colors. Alana will be your guide\, filling you in on all the pottery-painting tips and tricks you need to know. With plenty of inspiration on hand\, you’ll create a stunning piece to enhance your smoking experience. After painting\, your pottery will need to be fired in the kiln\, but don’t worry—you can swing by Hempfield Apothetique about a week later to pick up your masterpiece! \nINSTRUCTOR BIO: Alana\, owner of The Glazing Sun has been into ceramics for 6 years now! A nursing student turned into artist & business owner. She started out by painting ceramics with bright colors / glazes and selling them at art shows! Now\, she has a shop in Marietta that you can shop other small businesses and a pottery painting studio for you to create your OWN works of art. Alana loves spreading colorfulness and good vibes into the world with her colorful shop and getting others to express their creativity. \nWHAT TO WEAR/BRING: The paint / glazes are all water soluble so anything you get on you will wash right out! \nDATE: Friday\, March 15\, 2024 \nTIME: 5:00-7:00 \nCLASS FEE: \nPipes: $30 \nBongs: $60 \nPLEASE NOTE: Must be 21 to attend.
URL:https://hfa.mindstaging.com/event/puff-puff-pot-tery-painting-bowls-bongs/
LOCATION:Hempfield Apothetique\, 100 West Walnut Street\, Lancaster\, PA\, 17603\, United States
CATEGORIES:Fun with Cannabis
ATTACH;FMTTYPE=image/jpeg:https://hfa.mindstaging.com/wp-content/uploads/2024/02/bongs-and-pipes_3.jpg
END:VEVENT
END:VCALENDAR