BEGIN:VCALENDAR
VERSION:2.0
PRODID:-//Hempfield Apothetique - ECPv6.0.12//NONSGML v1.0//EN
CALSCALE:GREGORIAN
METHOD:PUBLISH
X-ORIGINAL-URL:https://hfa.mindstaging.com
X-WR-CALDESC:Events for Hempfield Apothetique
REFRESH-INTERVAL;VALUE=DURATION:PT1H
X-Robots-Tag:noindex
X-PUBLISHED-TTL:PT1H
BEGIN:VTIMEZONE
TZID:America/New_York
BEGIN:DAYLIGHT
TZOFFSETFROM:-0500
TZOFFSETTO:-0400
TZNAME:EDT
DTSTART:20240310T070000
END:DAYLIGHT
BEGIN:STANDARD
TZOFFSETFROM:-0400
TZOFFSETTO:-0500
TZNAME:EST
DTSTART:20241103T060000
END:STANDARD
TZID:UTC
BEGIN:STANDARD
TZOFFSETFROM:+0000
TZOFFSETTO:+0000
TZNAME:UTC
DTSTART:20240101T000000
END:STANDARD
END:VTIMEZONE
BEGIN:VEVENT
DTSTART;TZID=America/New_York:20240105T190000
DTEND;TZID=America/New_York:20240105T203000
DTSTAMP:20260419T163749
CREATED:20231206T214828Z
LAST-MODIFIED:20231211T173159Z
UID:10001842-1704481200-1704486600@hfa.mindstaging.com
SUMMARY:Puff Puff Paint Night | Snowman Fun
DESCRIPTION:Get ready for a magical night of creativity at Puff Puff Paint! Whether you’re a seasoned artist or just dipping your toes into the world of canvas\, everyone’s invited to join us on the First Friday in January from 7 pm to 8:30 pm. \nWHAT: Puff Puff Paint Night \nWHO: Calling all creatives at heart! Newbies and established artists\, you’re all welcome! \nWHEN: First Friday in January\, 7 pm – 8:30 pm \nART MEDIUM: Water-based acrylic paint on canvas \nTHEME: Snowman with cannabis “snowflakes” \nEmbrace the chill vibes and let your imagination run wild as Heather Hostetter guides us through the artistic journey. Open your mind\, get inspired\, and watch your ideas come to life on a canvas you can proudly display at home. \nFeel free to bring your favorite cannabis strain to enhance your creative experience. Many artists swear by it to unlock their imagination and connect with their art. Let the calming effects of cannabis flow as freely as your brush across the canvas! \nOur mission? More than just creating beautiful art—we’re building a community that breaks the stigma around cannabis\, one painting at a time. Come\, have fun\, and let’s make some art and memories together! \nCLASS FEE: $25.00 \nINSTRUCTOR BIO: Heather Hostetter\, MA\, MBA\, ATR-BC\, LPC is a local Art Therapist and artist with over 25 years of helping the community cope and strive towards wellness with the process of creating together. \nMUST BE 18 years or older to attend the class. \n\n\n\nPlease note: This is a cannabis-friendly space; however\, we ask that if you consume medical marijuana (MMJ) on-site\, that you show a valid PA ID and PA MMJ card. All PA MMJ brought into the facility must be in approved PA medical marijuana packaging with the patient’s information clearly visible. All PA MMJ card holders MUST abide by PA MMJ regulations including NO COMBUSTION of PA MMJ. Vaping\, oils\, tinctures\, sprays\, capsules\, and troches are permitted but absolutely no smokable equipment or tools are allowed onsite.
URL:https://hfa.mindstaging.com/event/puff-puff-paint-class_january_2024/
LOCATION:Hempfield Apothetique\, 100 West Walnut Street\, Lancaster\, PA\, 17603\, United States
CATEGORIES:Fun with Cannabis,Wellness Classes
ATTACH;FMTTYPE=image/jpeg:https://hfa.mindstaging.com/wp-content/uploads/2023/12/IMG_0186_edit.jpg
END:VEVENT
BEGIN:VEVENT
DTSTART;TZID=UTC:20240106T103000
DTEND;TZID=UTC:20240106T113000
DTSTAMP:20260419T163749
CREATED:20231115T201939Z
LAST-MODIFIED:20231228T163518Z
UID:10001830-1704537000-1704540600@hfa.mindstaging.com
SUMMARY:Cooking with Cannabis Introduction Class
DESCRIPTION:Blend the magic of cannabis with the craft of cooking in this introductory class that will teach you the basics of cooking with cannabis. Held in our demo kitchen\, we will show you how to make infused butter and oil to give you the building blocks to include hemp in your dishes! \nDecarb & Infuse \nDecarboxylation\, or decarb for short\, is the process of altering the chemical makeup of cannabis to create a potent formula for edibles\, oils\, and salves. During this class\, you’ll learn the decarboxylation process so you can infuse your medical marijuana or hemp flower into foods. \nDosing Edibles \nUnless you invest in an at-home THC tester\, there’s no way to know exactly how potent your infusion is. You can\, however\, do a calculation to get a rough estimate of potency. During this session\, we’ll go over the process of dosing edibles to ensure safe consumption.* \nINSTRUCTOR BIO: As a chronic pain sufferer\, related to spine issues and migraines\, Heather Kreider a Registered Nurse\, knows first-hand how cannabis can help patients live a happier\, healthier life. She is an Medical Marijuana card holder in PA\, cannabis advocate and strives to break the stigma that cannabis users are “a bunch of burnouts.” Heather is also certified in Advanced Cannabis Training and is PA Dispensary Agent Certified. \nHeather also helps patients navigate the process of obtaining a medical marijuana card\, working with dispensaries\, and determining the medical marijuana formulations and application methods that will best target the symptoms they’re experiencing. Her goal is to alleviate the gap in patient education by helping individuals understand the different types of cannabinoids\, terpenes\, and ways to consume medical marijuana. She also helps guide patients in how to safely administer the products they purchase. \n*Basic recipe include. \nNOTE: You do not need to be a PA Medical Marijuana patient to attend the class.
URL:https://hfa.mindstaging.com/event/cooking-with-cannabis-introduction-class-january-2024/
LOCATION:Hempfield Apothetique\, 100 West Walnut Street\, Lancaster\, PA\, 17603\, United States
CATEGORIES:Cooking with Cannabis Classes,Fun with Cannabis
ATTACH;FMTTYPE=image/jpeg:https://hfa.mindstaging.com/wp-content/uploads/2023/11/Hempfield2110065-e1700079551541.jpg
END:VEVENT
END:VCALENDAR