BEGIN:VCALENDAR
VERSION:2.0
PRODID:-//Hempfield Apothetique - ECPv6.0.12//NONSGML v1.0//EN
CALSCALE:GREGORIAN
METHOD:PUBLISH
X-WR-CALNAME:Hempfield Apothetique
X-ORIGINAL-URL:https://hfa.mindstaging.com
X-WR-CALDESC:Events for Hempfield Apothetique
REFRESH-INTERVAL;VALUE=DURATION:PT1H
X-Robots-Tag:noindex
X-PUBLISHED-TTL:PT1H
BEGIN:VTIMEZONE
TZID:America/New_York
BEGIN:DAYLIGHT
TZOFFSETFROM:-0500
TZOFFSETTO:-0400
TZNAME:EDT
DTSTART:20240310T070000
END:DAYLIGHT
BEGIN:STANDARD
TZOFFSETFROM:-0400
TZOFFSETTO:-0500
TZNAME:EST
DTSTART:20241103T060000
END:STANDARD
END:VTIMEZONE
BEGIN:VEVENT
DTSTART;TZID=America/New_York:20241120T193000
DTEND;TZID=America/New_York:20241120T203000
DTSTAMP:20260420T005200
CREATED:20240927T164034Z
LAST-MODIFIED:20241101T222828Z
UID:10002028-1732131000-1732134600@hfa.mindstaging.com
SUMMARY:FREE Movie Night & Gong Meditation
DESCRIPTION:Discover Higher Consciousness: Film Viewing and Free Gong Meditation \nJoin us for an evening of introspection\, inspiration\, and community as we explore the consciousness that is changing the world. This event features a screening of the film Merchants of Light: The Consciousness That Is Changing the World with Betty Kovacs\, followed by a discussion and a complimentary gong meditation led by Monica Mullen. \nDate: Wednesday\, November 20\, 2024\nTime: 7:30 pm – 8:30 pm\nCost: FREE \nEvent Highlights: \n\nFilm Screening: Dive into Betty Kovacs’ enlightening film\, Merchants of Light\, which explores the profound wisdom that is re-emerging in Western culture. As our society struggles with a limited and negative worldview\, evidence of our shaman-mystic-scientist past—repressed by Church and State—is surfacing\, providing a blueprint for our evolution. This blueprint\, revealed through the heart wisdom of the mystic and the cutting-edge science of quantum physics\, nurtures the sacred knowledge of our immortality\, divinity\, and creativity. It unites the visionary and the rational\, the feminine and the masculine\, the mystic and the scientist\, forming the consciousness that is changing the world.\nDiscussion: Engage in a thoughtful discussion following the film\, sharing insights and reflections on the themes of spiritual awakening and personal transformation.\nGong Meditation: Conclude the evening with a FREE gong meditation led by Monica Mullen. Allow the soothing vibrations to deepen your introspection and elevate your state of consciousness.\n\nPlease bring something comfortable to sit or lie on for the viewing and meditation. We look forward to sharing this transformative evening with you!
URL:https://hfa.mindstaging.com/event/free-move-gong-meditation-november-2024/
LOCATION:Hempfield Apothetique\, 100 West Walnut Street\, Lancaster\, PA\, 17603\, United States
CATEGORIES:Free Classes & Events,Wellness Classes
ATTACH;FMTTYPE=image/jpeg:https://hfa.mindstaging.com/wp-content/uploads/2024/09/45-92.jpg
END:VEVENT
END:VCALENDAR