BEGIN:VCALENDAR
VERSION:2.0
PRODID:-//Hempfield Apothetique - ECPv6.0.12//NONSGML v1.0//EN
CALSCALE:GREGORIAN
METHOD:PUBLISH
X-WR-CALNAME:Hempfield Apothetique
X-ORIGINAL-URL:https://hfa.mindstaging.com
X-WR-CALDESC:Events for Hempfield Apothetique
REFRESH-INTERVAL;VALUE=DURATION:PT1H
X-Robots-Tag:noindex
X-PUBLISHED-TTL:PT1H
BEGIN:VTIMEZONE
TZID:America/New_York
BEGIN:DAYLIGHT
TZOFFSETFROM:-0500
TZOFFSETTO:-0400
TZNAME:EDT
DTSTART:20240310T070000
END:DAYLIGHT
BEGIN:STANDARD
TZOFFSETFROM:-0400
TZOFFSETTO:-0500
TZNAME:EST
DTSTART:20241103T060000
END:STANDARD
END:VTIMEZONE
BEGIN:VEVENT
DTSTART;TZID=America/New_York:20241005T090000
DTEND;TZID=America/New_York:20241005T170000
DTSTAMP:20260419T232053
CREATED:20240909T155659Z
LAST-MODIFIED:20240916T185617Z
UID:10002012-1728118800-1728147600@hfa.mindstaging.com
SUMMARY:Lancaster Fall Art Walk 2024
DESCRIPTION:Join us for Lancaster City’s Fall Art Walk 2024! More details to follow!
URL:https://hfa.mindstaging.com/event/fall-lancater-art-walk/
LOCATION:Hempfield Apothetique\, 100 West Walnut Street\, Lancaster\, PA\, 17603\, United States
CATEGORIES:Events,Free Classes & Events
ATTACH;FMTTYPE=image/jpeg:https://hfa.mindstaging.com/wp-content/uploads/2024/09/Artwalk.jpg
END:VEVENT
BEGIN:VEVENT
DTSTART;TZID=America/New_York:20241006T120000
DTEND;TZID=America/New_York:20241006T160000
DTSTAMP:20260419T232053
CREATED:20240910T202053Z
LAST-MODIFIED:20240927T174011Z
UID:10002014-1728216000-1728230400@hfa.mindstaging.com
SUMMARY:Lancaster Fall Art Walk 2024
DESCRIPTION:Join us for Lancaster City’s Fall Art Walk 2024! More details to follow!
URL:https://hfa.mindstaging.com/event/fall-lancater-art-walk-2/
LOCATION:Hempfield Apothetique\, 100 West Walnut Street\, Lancaster\, PA\, 17603\, United States
CATEGORIES:Events,Free Classes & Events
ATTACH;FMTTYPE=image/jpeg:https://hfa.mindstaging.com/wp-content/uploads/2024/09/Artwalk.jpg
END:VEVENT
BEGIN:VEVENT
DTSTART;TZID=America/New_York:20241009T183000
DTEND;TZID=America/New_York:20241009T203000
DTSTAMP:20260419T232053
CREATED:20240627T190358Z
LAST-MODIFIED:20240627T190520Z
UID:10001976-1728498600-1728505800@hfa.mindstaging.com
SUMMARY:Lancaster Psychedelic Community Meet Up
DESCRIPTION:Join the Lancaster Psychedelic Community for an informative discussion on the largest spiritual community in America of over 1000 cultural revolutionaries founded around psychedelics\, politics\, and rock ‘n roll. Listen\, learn and share about experiences in a safe\, supportive space. \nDATE: Wednesday\, October 9\, 2024 \nTIME: 6:30 pm – 8:30 pm \nORGANIZER: John Adams \nFEE: Free
URL:https://hfa.mindstaging.com/event/lancaster-psychedelic-community-meet-up-october-2024/
LOCATION:Hempfield Apothetique\, 100 West Walnut Street\, Lancaster\, PA\, 17603\, United States
CATEGORIES:Free Classes & Events,Wellness Classes
ATTACH;FMTTYPE=image/jpeg:https://hfa.mindstaging.com/wp-content/uploads/2023/07/45-Images-HFA-Event-Images-36.jpg
END:VEVENT
BEGIN:VEVENT
DTSTART;TZID=America/New_York:20241016T190000
DTEND;TZID=America/New_York:20241016T203000
DTSTAMP:20260419T232053
CREATED:20240905T144030Z
LAST-MODIFIED:20240905T150802Z
UID:10002011-1729105200-1729110600@hfa.mindstaging.com
SUMMARY:Mothership: A Memoir of Wonder and Crisis Book Tour with Greg Wrenn
DESCRIPTION:What part do psychedelic medicines have to play in healing our personal trauma–and our relationship to Mother Earth? \nJoin author Greg Wrenn and the Lancaster Psychedelic Society at Hempfield Apothetique for an intimate evening of storytelling\, psychedelic science\, and ecological exploration. Reading from his new eco-memoir Mothership\, Greg will discuss ayahuasca as a trauma medicine and an eco-sacrament for our uncertain times. \nWeaving together memoir and cutting-edge science\, Mothership is both a queer coming-of-age story and a deeply researched account of how coral reefs and ayahuasca helped Greg heal from complex PTSD–and awakened him to the need for us to heal the planet as well. Rick Doblin\, PhD called Mothership “a deeply moving roadmap through the intertwined destinies of individual well-being and the urgent need to heal our planet\,” and Rachel Harris\, PhD\, author of Listening to Ayahuasca\, said it’s “an important contribution to the growing field of psychedelic study.” Carine McCandless\, author of The Wild Truth\, the New York Times-bestselling follow-up to Into the Wild\, called it “a powerful testimonial and call to action to save the equal opportunity healer that is Mother Nature.” \nHighlights: \n\nExplore a healing paradigm possibly more powerful than many traditional therapeutic models\, and the role psychedelics can play in our time of widespread mental illness and the ongoing climate crisis.\nHear a well-crafted tale that weaves threads of memoir\, mental health struggles\, scientific research\, and a good-old-fashioned psychedelic adventure.\nGet your book signed! After a talk and discussion-based Q+A\, Greg Wrenn will sign copies of his book\, which will be on sale.\nConnect! As always\, we will have an opportunity afterwards to meet other like-minded individuals in our community\, and come away with new friends.\n\nAuthor Bio: A former Stegner Fellow at Stanford University\, Greg Wrenn is the author of Mothership: A Memoir of Wonder and Crisis\, an evidence-based account of his turning to ayahuasca and endangered coral reefs to heal from complex PTSD\, and Centaur\, which was awarded the Brittingham Prize in Poetry. His work has appeared in HuffPost\, The New Republic\, Al Jazeera\, Kenyon Review\, and elsewhere. As an associate English professor at James Madison University\, he weaves climate change science into literary studies. On his Mothership book tour\, he has spoken to audiences around the world\, including at Yale School of Medicine. Greg has also been on numerous podcasts\, including Levi Chambers’s PRIDE\, and was interviewed by Emmy Award-winning journalist Elizabeth Vargas. @gregjwrenn (Instagram)
URL:https://hfa.mindstaging.com/event/mothership-a-memoir-of-wonder-and-crisis-book-tour/
LOCATION:Hempfield Apothetique\, 100 West Walnut Street\, Lancaster\, PA\, 17603\, United States
CATEGORIES:Events,Free Classes & Events
ATTACH;FMTTYPE=image/jpeg:https://hfa.mindstaging.com/wp-content/uploads/2024/09/45-89.jpg
END:VEVENT
BEGIN:VEVENT
DTSTART;TZID=America/New_York:20241025T150000
DTEND;TZID=America/New_York:20241025T190000
DTSTAMP:20260419T232053
CREATED:20240918T204516Z
LAST-MODIFIED:20240918T210851Z
UID:10002023-1729868400-1729882800@hfa.mindstaging.com
SUMMARY:Sunnyside Dispensary | Cannabis Education Event
DESCRIPTION:Details to follow.
URL:https://hfa.mindstaging.com/event/sunnyside-dispensary-cannabis-education-event/
LOCATION:Hempfield Apothetique\, 100 West Walnut Street\, Lancaster\, PA\, 17603\, United States
CATEGORIES:Free Classes & Events
ATTACH;FMTTYPE=image/jpeg:https://hfa.mindstaging.com/wp-content/uploads/2024/09/Square-Images-2024-09-18T170739.107.jpg
END:VEVENT
END:VCALENDAR