BEGIN:VCALENDAR
VERSION:2.0
PRODID:-//Hempfield Apothetique - ECPv6.0.12//NONSGML v1.0//EN
CALSCALE:GREGORIAN
METHOD:PUBLISH
X-ORIGINAL-URL:https://hfa.mindstaging.com
X-WR-CALDESC:Events for Hempfield Apothetique
REFRESH-INTERVAL;VALUE=DURATION:PT1H
X-Robots-Tag:noindex
X-PUBLISHED-TTL:PT1H
BEGIN:VTIMEZONE
TZID:America/New_York
BEGIN:DAYLIGHT
TZOFFSETFROM:-0500
TZOFFSETTO:-0400
TZNAME:EDT
DTSTART:20240310T070000
END:DAYLIGHT
BEGIN:STANDARD
TZOFFSETFROM:-0400
TZOFFSETTO:-0500
TZNAME:EST
DTSTART:20241103T060000
END:STANDARD
END:VTIMEZONE
BEGIN:VEVENT
DTSTART;TZID=America/New_York:20240906T170000
DTEND;TZID=America/New_York:20240906T210000
DTSTAMP:20260420T025540
CREATED:20240624T175958Z
LAST-MODIFIED:20240717T161431Z
UID:10001968-1725642000-1725656400@hfa.mindstaging.com
SUMMARY:Lancaster Print Crawl 2024
DESCRIPTION:Event info coming soon.
URL:https://hfa.mindstaging.com/event/lancaster-print-crawl-2024/
LOCATION:Hempfield Apothetique\, 100 West Walnut Street\, Lancaster\, PA\, 17603\, United States
CATEGORIES:Event Rental,Free Classes & Events
ATTACH;FMTTYPE=image/jpeg:https://hfa.mindstaging.com/wp-content/uploads/2024/06/LPC.jpg
END:VEVENT
BEGIN:VEVENT
DTSTART;TZID=America/New_York:20240911T183000
DTEND;TZID=America/New_York:20240911T203000
DTSTAMP:20260420T025540
CREATED:20240521T191928Z
LAST-MODIFIED:20240521T192115Z
UID:10001946-1726079400-1726086600@hfa.mindstaging.com
SUMMARY:Lancaster Psychedelic Community Meet Up
DESCRIPTION:Join the Lancaster Psychedelic Community for an informative discussion on the largest spiritual community in America of over 1000 cultural revolutionaries founded around psychedelics\, politics\, and rock ‘n roll. Listen\, learn and share about experiences in a safe\, supportive space. \nDATE: Wednesday\, September 11\, 2024 \nTIME: 6:30 pm – 8:30 pm \nORGANIZER: John Adams \nFEE: Free
URL:https://hfa.mindstaging.com/event/lancaster-psychedelic-community-meet-up-september-2024/
LOCATION:Hempfield Apothetique\, 100 West Walnut Street\, Lancaster\, PA\, 17603\, United States
CATEGORIES:Free Classes & Events,Wellness Classes
ATTACH;FMTTYPE=image/jpeg:https://hfa.mindstaging.com/wp-content/uploads/2023/07/45-Images-HFA-Event-Images-36.jpg
END:VEVENT
BEGIN:VEVENT
DTSTART;TZID=America/New_York:20240925T183000
DTEND;TZID=America/New_York:20240925T203000
DTSTAMP:20260420T025540
CREATED:20240815T221600Z
LAST-MODIFIED:20240910T203433Z
UID:10001999-1727289000-1727296200@hfa.mindstaging.com
SUMMARY:FREE Movie Night & Gong Meditation
DESCRIPTION:Join us for an evening of introspection and conversation. Film viewing TBD. \nAfter the film\, stay for a discussion and a FREE gong meditation led by Monica Mullen. Bring something comfortable to sit or lay on for the viewing and meditation. \nDATE: Wednesday\, September 25\, 2024 \nTIME: 6:30 pm – 8:30 pm \nCOST: FREE
URL:https://hfa.mindstaging.com/event/free-move-gong-meditation-september-2024/
LOCATION:Hempfield Apothetique\, 100 West Walnut Street\, Lancaster\, PA\, 17603\, United States
CATEGORIES:Free Classes & Events,Wellness Classes
ATTACH;FMTTYPE=image/jpeg:https://hfa.mindstaging.com/wp-content/uploads/2023/05/Samadhi-Part-3_2.jpg
END:VEVENT
END:VCALENDAR