BEGIN:VCALENDAR
VERSION:2.0
PRODID:-//Hempfield Apothetique - ECPv6.0.12//NONSGML v1.0//EN
CALSCALE:GREGORIAN
METHOD:PUBLISH
X-WR-CALNAME:Hempfield Apothetique
X-ORIGINAL-URL:https://hfa.mindstaging.com
X-WR-CALDESC:Events for Hempfield Apothetique
REFRESH-INTERVAL;VALUE=DURATION:PT1H
X-Robots-Tag:noindex
X-PUBLISHED-TTL:PT1H
BEGIN:VTIMEZONE
TZID:America/New_York
BEGIN:DAYLIGHT
TZOFFSETFROM:-0500
TZOFFSETTO:-0400
TZNAME:EDT
DTSTART:20240310T070000
END:DAYLIGHT
BEGIN:STANDARD
TZOFFSETFROM:-0400
TZOFFSETTO:-0500
TZNAME:EST
DTSTART:20241103T060000
END:STANDARD
END:VTIMEZONE
BEGIN:VEVENT
DTSTART;TZID=America/New_York:20240410T183000
DTEND;TZID=America/New_York:20240410T203000
DTSTAMP:20260422T032600
CREATED:20231127T175359Z
LAST-MODIFIED:20231127T175448Z
UID:10001836-1712773800-1712781000@hfa.mindstaging.com
SUMMARY:Lancaster Psychedelic Community Meet Up
DESCRIPTION:Join the Lancaster Psychedelic Community for an informative discussion on the largest spiritual community in America of over 1000 cultural revolutionaries founded around psychedelics\, politics\, and rock ‘n roll. Listen\, learn and share about experiences in a safe\, supportive space. \nDATE: Wednesday\, April 10\, 2024 \nTIME: 6:30 pm – 8:30 pm \nORGANIZER: John Adams \nFEE: Free
URL:https://hfa.mindstaging.com/event/lancaster-psychedelic-community-meet-up-april2024/
LOCATION:Hempfield Apothetique\, 100 West Walnut Street\, Lancaster\, PA\, 17603\, United States
CATEGORIES:Free Classes & Events,Wellness Classes
ATTACH;FMTTYPE=image/jpeg:https://hfa.mindstaging.com/wp-content/uploads/2023/07/45-Images-HFA-Event-Images-36.jpg
END:VEVENT
BEGIN:VEVENT
DTSTART;TZID=America/New_York:20240418T183000
DTEND;TZID=America/New_York:20240418T203000
DTSTAMP:20260422T032600
CREATED:20240403T200059Z
LAST-MODIFIED:20240403T200843Z
UID:10001908-1713465000-1713472200@hfa.mindstaging.com
SUMMARY:FREE Becoming Nobody Viewing & Gong Meditation
DESCRIPTION:“Becoming Nobody” serves as a captivating glimpse into the life and wisdom of Ram Dass. The filmmakers skillfully capture his entertaining nature and witty humor while tackling profound themes of ultimate freedom. \nRam Dass transcends his persona as a 1960s Harvard psychologist turned hippie. He acts as a conduit between Eastern and Western philosophies\, leaving a lasting impact on a generation of truth-seekers through his transformative journeys in India. From his upbringing in a distinguished Jewish family in Boston to his roles as a Harvard luminary\, psychedelic voyager\, spiritual guide\, stroke survivor\, and compassionate caregiver\, this documentary paints a rich tapestry of his life. \nSynopsis: \nThrough a blend of archival footage and insightful conversations with director Jamie Catto\, “Becoming Nobody” explores how shedding old identities and societal masks can liberate us from self-imposed limitations. Ram Dass’ journey from “somebody-ness” to spiritual enlightenment serves as inspiration for a new generation seeking authenticity and inner truth. Delve into the roots of his teachings and embark on your own journey toward discovering your genuine self and embracing what resonates as true within you. \nDiscussion can occur after the film followed by a FREE gong meditation with Monica Mullen. Bring something to sit or lay on for the viewing and meditation. \nDATE: Thursday\, April 18\, 2024 \nTIME: 6:30 pm – 8:30 pm \nCOST: FREE
URL:https://hfa.mindstaging.com/event/becoming-nobody/
LOCATION:Hempfield Apothetique\, 100 West Walnut Street\, Lancaster\, PA\, 17603\, United States
CATEGORIES:Free Classes & Events,Wellness Classes
ATTACH;FMTTYPE=image/jpeg:https://hfa.mindstaging.com/wp-content/uploads/2024/04/Becoming-Nobody.jpg
END:VEVENT
BEGIN:VEVENT
DTSTART;TZID=America/New_York:20240420T140000
DTEND;TZID=America/New_York:20240420T160000
DTSTAMP:20260422T032600
CREATED:20240404T162044Z
LAST-MODIFIED:20240404T162609Z
UID:10001909-1713621600-1713628800@hfa.mindstaging.com
SUMMARY:The Culture High | Documentary Showing
DESCRIPTION:Dive deep into the world of cannabis with a FREE viewing of “The Culture High”! \nJoin us on April 20th\, from 2 pm to 4 pm\, for an eye-opening journey exploring the cultural\, social\, and political impact of this fascinating plant. Whether you’re a seasoned enthusiast or just curious to learn more\, this documentary will captivate and educate. Don’t miss out on this enlightening experience! Mark your calendar and get ready to expand your horizons with us. \nDATE: Saturday\, April 20\, 2024\nTIME: 2:00 pm – 4:00 pm\nFEE: FREE \nNOTE: Please bring comfy things to chill on our large open mat in our wellness center!
URL:https://hfa.mindstaging.com/event/the-culture-high-documentary-showing/
LOCATION:Hempfield Apothetique\, 100 West Walnut Street\, Lancaster\, PA\, 17603\, United States
CATEGORIES:Free Classes & Events,Fun with Cannabis
ATTACH;FMTTYPE=image/jpeg:https://hfa.mindstaging.com/wp-content/uploads/2024/04/The-Culture-High.jpg
END:VEVENT
END:VCALENDAR