BEGIN:VCALENDAR
VERSION:2.0
PRODID:-//Hempfield Apothetique - ECPv6.0.12//NONSGML v1.0//EN
CALSCALE:GREGORIAN
METHOD:PUBLISH
X-WR-CALNAME:Hempfield Apothetique
X-ORIGINAL-URL:https://hfa.mindstaging.com
X-WR-CALDESC:Events for Hempfield Apothetique
REFRESH-INTERVAL;VALUE=DURATION:PT1H
X-Robots-Tag:noindex
X-PUBLISHED-TTL:PT1H
BEGIN:VTIMEZONE
TZID:America/New_York
BEGIN:DAYLIGHT
TZOFFSETFROM:-0500
TZOFFSETTO:-0400
TZNAME:EDT
DTSTART:20240310T070000
END:DAYLIGHT
BEGIN:STANDARD
TZOFFSETFROM:-0400
TZOFFSETTO:-0500
TZNAME:EST
DTSTART:20241103T060000
END:STANDARD
BEGIN:DAYLIGHT
TZOFFSETFROM:-0500
TZOFFSETTO:-0400
TZNAME:EDT
DTSTART:20250309T070000
END:DAYLIGHT
BEGIN:STANDARD
TZOFFSETFROM:-0400
TZOFFSETTO:-0500
TZNAME:EST
DTSTART:20251102T060000
END:STANDARD
END:VTIMEZONE
BEGIN:VEVENT
DTSTART;TZID=America/New_York:20241122T100000
DTEND;TZID=America/New_York:20241122T210000
DTSTAMP:20260420T223741
CREATED:20240624T160333Z
LAST-MODIFIED:20241028T154837Z
UID:10001967-1732269600-1732309200@hfa.mindstaging.com
SUMMARY:Extra Give with the Occupational Development Center
DESCRIPTION:Support ODC at The Extraordinary Give! \nOnce again\, the Occupational Development Center (ODC) is proud to join Lancaster County’s 24-hour online giving event\, The Extraordinary Give! We invite you to donate to ODC anytime throughout the day to help empower local adults with intellectual and developmental disabilities in learning new skills and finding employment in the community. \nJoin Us in Person at Hempfield Apothetique!\n???? 10 am to Midnight\n???? 100 West Walnut Street\, Lancaster\, PA \nThe ODC will be at our amazing event space all day long\, with plenty of fun lined up: \n\nLive DJ from Occasions DJs ???? bringing Family Feud-style games\, music\, and dancing!\nFood and Drink (from 6 pm on): Pour Man’s Brewing will be serving beer\, and Momma Son’s Cambodian Cuisine will be dishing out delicious eats!\nElectrons Plus Mini-Sessions: Get a free wellness mini-session with Michael De Hoff!\n\nCome by to say hi\, celebrate with us\, and make a difference in the lives of those we serve. Together\, let’s make this Extraordinary Give unforgettable!
URL:https://hfa.mindstaging.com/event/extra-give-with-the-occupational-development-center/
LOCATION:Hempfield Apothetique\, 100 West Walnut Street\, Lancaster\, PA\, 17603\, United States
CATEGORIES:Event Rental,Free Classes & Events
ATTACH;FMTTYPE=image/jpeg:https://hfa.mindstaging.com/wp-content/uploads/2024/09/HFA_Banner_ExtraGiveODC_2024_1280x569_Dec2023.jpg
END:VEVENT
BEGIN:VEVENT
DTSTART;TZID=America/New_York:20241123T180000
DTEND;TZID=America/New_York:20241123T210000
DTSTAMP:20260420T223741
CREATED:20240507T141911Z
LAST-MODIFIED:20240507T142014Z
UID:10001927-1732384800-1732395600@hfa.mindstaging.com
SUMMARY:Private Event
DESCRIPTION:Closed for a private event. If you are interested in renting our beautiful space\, please reach out via email: Hello@HempfieldApothetique.com.
URL:https://hfa.mindstaging.com/event/private-event-2024-11-23/
LOCATION:Hempfield Apothetique\, 100 West Walnut Street\, Lancaster\, PA\, 17603\, United States
CATEGORIES:Event Rental
END:VEVENT
BEGIN:VEVENT
DTSTART;VALUE=DATE:20241231
DTEND;VALUE=DATE:20250102
DTSTAMP:20260420T223741
CREATED:20240815T205029Z
LAST-MODIFIED:20240815T205122Z
UID:10001996-1735603200-1735775999@hfa.mindstaging.com
SUMMARY:Private Event
DESCRIPTION:Closed for a private event. If you are interested in renting our beautiful space\, please reach out via email: Hello@HempfieldApothetique.com.
URL:https://hfa.mindstaging.com/event/private-event-2024-12-31/
LOCATION:Hempfield Apothetique\, 100 West Walnut Street\, Lancaster\, PA\, 17603\, United States
CATEGORIES:Event Rental
END:VEVENT
BEGIN:VEVENT
DTSTART;TZID=America/New_York:20250105T150000
DTEND;TZID=America/New_York:20250105T170000
DTSTAMP:20260420T223741
CREATED:20241220T192739Z
LAST-MODIFIED:20241220T193520Z
UID:10003269-1736089200-1736096400@hfa.mindstaging.com
SUMMARY:Private Cannabis Industry Event
DESCRIPTION:If you’re interested in renting The Lounge at Hempfield Apothetique\, please email us at Hello@HempfieldApothetique.com.
URL:https://hfa.mindstaging.com/event/private-cannabis-industry-event/
LOCATION:Hempfield Apothetique\, 100 West Walnut Street\, Lancaster\, PA\, 17603\, United States
CATEGORIES:Event Rental
END:VEVENT
BEGIN:VEVENT
DTSTART;TZID=America/New_York:20250302T140000
DTEND;TZID=America/New_York:20250302T170000
DTSTAMP:20260420T223741
CREATED:20250124T205217Z
LAST-MODIFIED:20250127T205242Z
UID:10003310-1740924000-1740934800@hfa.mindstaging.com
SUMMARY:Sunday Open Mic Sessions at The Lounge
DESCRIPTION:Sunday Open Mic Sessions at The Lounge \nJoin us every first Sunday of the month from 2 to 5 pm for an afternoon of music and community vibes! Hosted by the talented Liam Galiano\, this event showcases incredible local musicians and offers a welcoming space for anyone to share their talent. Whether you’re a performer or just want to enjoy great music\, stop by and join in the fun. \nPlease note: This is a cannabis-friendly space and vaping/smoking of in-lounge purchased products is permitted. To consume onsite\, you must purchase items from our bud bar. Absolutely NO TOBACCO is permitted inside. \nBYOB Policy: \nWe aim to provide a safe\, enjoyable\, and classy environment for all guests. Please carefully review our BYOB (Bring Your Own Bottle) policy: \n\nBottle Fee: There is a $20 fee per bottle brought into the venue for consumption. Payment will be collected upon entry.\nNo Open Bottles: For safety and quality assurance\, only sealed bottles are permitted. Drinking from open bottles is strictly prohibited.\nClassy Atmosphere: To maintain an upscale vibe\, please keep your behavior respectful and in line with our ambiance.\nAge Verification: We card all guests at the door. Please bring a valid government-issued ID. Guests must be 21 or older to bring and consume alcohol.\nResponsible Drinking: We encourage responsible consumption of alcohol. Any disruptive behavior may result in removal from the venue.\n\nThank you for your understanding and cooperation. Let’s keep it fun\, safe\, and classy!
URL:https://hfa.mindstaging.com/event/sunday-open-mic-sessions/
LOCATION:Hempfield Apothetique\, 100 West Walnut Street\, Lancaster\, PA\, 17603\, United States
CATEGORIES:Event Rental,Fun with Cannabis
ATTACH;FMTTYPE=image/jpeg:https://hfa.mindstaging.com/wp-content/uploads/2025/01/45-2025-01-27T154018.724.jpg
END:VEVENT
BEGIN:VEVENT
DTSTART;TZID=America/New_York:20250417T180000
DTEND;TZID=America/New_York:20250417T210000
DTSTAMP:20260420T223741
CREATED:20250325T214312Z
LAST-MODIFIED:20250326T131453Z
UID:10003439-1744912800-1744923600@hfa.mindstaging.com
SUMMARY:Private Cannabis Industry Event
DESCRIPTION:
URL:https://hfa.mindstaging.com/event/private-cannabis-industry-event-2/
LOCATION:Hempfield Apothetique\, 100 West Walnut Street\, Lancaster\, PA\, 17603\, United States
CATEGORIES:Event Rental
END:VEVENT
BEGIN:VEVENT
DTSTART;TZID=America/New_York:20250525T150000
DTEND;TZID=America/New_York:20250526T080000
DTSTAMP:20260420T223741
CREATED:20250205T185528Z
LAST-MODIFIED:20250205T185651Z
UID:10003329-1748185200-1748246400@hfa.mindstaging.com
SUMMARY:Private Event
DESCRIPTION:Private Event
URL:https://hfa.mindstaging.com/event/private-event-8/
LOCATION:Hempfield Apothetique\, 100 West Walnut Street\, Lancaster\, PA\, 17603\, United States
CATEGORIES:Event Rental
END:VEVENT
BEGIN:VEVENT
DTSTART;TZID=America/New_York:20250601T183000
DTEND;TZID=America/New_York:20250601T213000
DTSTAMP:20260420T223741
CREATED:20250325T162801Z
LAST-MODIFIED:20250325T162851Z
UID:10003438-1748802600-1748813400@hfa.mindstaging.com
SUMMARY:Private Event
DESCRIPTION:
URL:https://hfa.mindstaging.com/event/private-event-9/
LOCATION:Hempfield Apothetique\, 100 West Walnut Street\, Lancaster\, PA\, 17603\, United States
CATEGORIES:Event Rental
END:VEVENT
BEGIN:VEVENT
DTSTART;TZID=America/New_York:20250704T150000
DTEND;TZID=America/New_York:20250704T233000
DTSTAMP:20260420T223741
CREATED:20250528T171205Z
LAST-MODIFIED:20250528T183135Z
UID:10003545-1751641200-1751671800@hfa.mindstaging.com
SUMMARY:Private Event
DESCRIPTION:
URL:https://hfa.mindstaging.com/event/private-event-11/
LOCATION:Hempfield Apothetique\, 100 West Walnut Street\, Lancaster\, PA\, 17603\, United States
CATEGORIES:Event Rental
END:VEVENT
BEGIN:VEVENT
DTSTART;TZID=America/New_York:20250905T170000
DTEND;TZID=America/New_York:20250905T210000
DTSTAMP:20260420T223741
CREATED:20250505T205233Z
LAST-MODIFIED:20250902T185239Z
UID:10003475-1757091600-1757106000@hfa.mindstaging.com
SUMMARY:Lancaster Print Crawl 2025
DESCRIPTION:Guess what?! We’re officially back on the Lancaster Print Crawl trail this year and we couldn’t be more excited! \nPre-order your blank posters before Friday to guarantee your spot in the action. \nNot sure what the Print Crawl is all about? Imagine a bar crawl… but for ART. You’ll grab your blank poster (pre-order OR snag one the day of)\, then wander from stop to stop\, collecting a fresh layer of design at each location. By the end\, you’ll have a one-of-a-kind masterpiece — designed by the amazing local artist\, Xani Dean. \nYou can follow the map in order or hop around however you like. Either way\, you’ll leave with a finished\, totally unique piece of art.
URL:https://hfa.mindstaging.com/event/lancaster-print-crawl-2025/
LOCATION:Hempfield Apothetique\, 100 West Walnut Street\, Lancaster\, PA\, 17603\, United States
CATEGORIES:Event Rental,Free Classes & Events
ATTACH;FMTTYPE=image/png:https://hfa.mindstaging.com/wp-content/uploads/2025/05/Lancaster-Art-Crawl-2025.png
END:VEVENT
END:VCALENDAR