BEGIN:VCALENDAR
VERSION:2.0
PRODID:-//Hempfield Apothetique - ECPv6.0.12//NONSGML v1.0//EN
CALSCALE:GREGORIAN
METHOD:PUBLISH
X-ORIGINAL-URL:http://hfa.mindstaging.com
X-WR-CALDESC:Events for Hempfield Apothetique
REFRESH-INTERVAL;VALUE=DURATION:PT1H
X-Robots-Tag:noindex
X-PUBLISHED-TTL:PT1H
BEGIN:VTIMEZONE
TZID:America/New_York
BEGIN:DAYLIGHT
TZOFFSETFROM:-0500
TZOFFSETTO:-0400
TZNAME:EDT
DTSTART:20230312T070000
END:DAYLIGHT
BEGIN:STANDARD
TZOFFSETFROM:-0400
TZOFFSETTO:-0500
TZNAME:EST
DTSTART:20231105T060000
END:STANDARD
TZID:UTC
BEGIN:STANDARD
TZOFFSETFROM:+0000
TZOFFSETTO:+0000
TZNAME:UTC
DTSTART:20230101T000000
END:STANDARD
END:VTIMEZONE
BEGIN:VEVENT
DTSTART;TZID=America/New_York:20231203T120000
DTEND;TZID=America/New_York:20231203T133000
DTSTAMP:20260420T104917
CREATED:20230302T190941Z
LAST-MODIFIED:20231117T212915Z
UID:10000605-1701604800-1701610200@hfa.mindstaging.com
SUMMARY:Seasonal Cooking Series: An Ayurvedic Approach to Seasonal Eating
DESCRIPTION:Seasonal Eating / Winter Comfort: Rooting Down and Building Strength\nJoin Roberta and Jenny for a fun\, delicious and educational workshop\, where we’ll sit down to eat a delicious vegetarian shepherds pie followed by instructional time and talk. You’ll learn how to make this delicious dish and why it is perfect for the cold winter months using Ayurvedic Principles. \nDATE: Sunday\, December 3\, 2023 \nTIME: 12:00 pm to 1:30 p.m. \nFEE: $40 \nOn the Menu: Vegetarian Shepherd’s Pie \nINSTRUCTOR BIOS: \nJenny Schulder Brant is an Certified Ayurveda Health Counselor\, Yoga teacher and artist. She studied Ayurveda at Kripalu and is certified through the National Ayurvedic Medical Association (NAMA). She a certified yoga teacher (YT200) with Briala Silva. Her focus is on teaching food as medicine and on helping to build a community in which health and quality of life are valued most; one where we understand that the health of our own bodies and minds directly connect to the health of our communities and the world. \nRoberta Strickler – Certified Ayurveda Health Counselor
URL:http://hfa.mindstaging.com/event/seasonal-cooking-series-an-ayurvedic-approach-to-seasonal-eating-winter-eating/
LOCATION:Hempfield Apothetique\, 100 West Walnut Street\, Lancaster\, PA\, 17603\, United States
CATEGORIES:Wellness Classes
ATTACH;FMTTYPE=image/jpeg:http://hfa.mindstaging.com/wp-content/uploads/2023/03/45-Images-HFA-Event-Images-96.jpg
END:VEVENT
BEGIN:VEVENT
DTSTART;TZID=UTC:20231207T183000
DTEND;TZID=UTC:20231207T200000
DTSTAMP:20260420T104917
CREATED:20231103T175136Z
LAST-MODIFIED:20231203T135648Z
UID:10001820-1701973800-1701979200@hfa.mindstaging.com
SUMMARY:Restorative Yoga (90 Minutes)
DESCRIPTION:Designed to combat the mental and physical repercussions of everyday stress. Still the mind\, increase balance and capacity for healing\, boosts immune system functions\, and deeply relaxes the body to alleviate built up stress. \nA meditative form of yoga with a focus on breathwork and longer-held poses. More relaxed\, passive\, and slow-paced\, allowing the body tissue to rest and recover. Restorative yoga releases mind-body tension by moving at a slower\, more-relaxed pace that allows the body tissues to rest and recover. Props\, such as blocks\, straps\, and bolsters\, may be used to support your pose with ease to achieve relaxed comfort. \nRestorative yoga works with the parasympathetic nervous system\, which targets our response to stress in the body. Slow poses paired with breathwork can slow down the heart rate while increasing blood flow to your vital organs. \nCLASS LENGTH: 90 minutes \nYOGA INSTRUCTOR BIO: Beth Weaver is a Modern Alchemist\, a visionary and psychic with a drive to introduce people to their highest selves. Her way of seeing the physical and subtle human energy system leads her to notice dis-ease\, discomfort\, and desires in the physical and energetic subtle bodies. This information helps her to guide others to a greater sense of awareness and well-being. She uses her skills to address psycho-emotional and soul-related challenges that often present in the physical body. My gentle yet direct approach has guided clients to understand and articulate feelings and overcome obstacles. \nCLASS FEE: $15.00
URL:http://hfa.mindstaging.com/event/restorative-yoga-2023-12-07/
LOCATION:Hempfield Apothetique\, 100 West Walnut Street\, Lancaster\, PA\, 17603\, United States
CATEGORIES:Wellness Classes
ATTACH;FMTTYPE=image/jpeg:http://hfa.mindstaging.com/wp-content/uploads/2023/02/Hempfield_Activities_0022-e1677101949109.jpg
END:VEVENT
END:VCALENDAR