BEGIN:VCALENDAR
VERSION:2.0
PRODID:-//Hempfield Apothetique - ECPv6.0.12//NONSGML v1.0//EN
CALSCALE:GREGORIAN
METHOD:PUBLISH
X-WR-CALNAME:Hempfield Apothetique
X-ORIGINAL-URL:http://hfa.mindstaging.com
X-WR-CALDESC:Events for Hempfield Apothetique
REFRESH-INTERVAL;VALUE=DURATION:PT1H
X-Robots-Tag:noindex
X-PUBLISHED-TTL:PT1H
BEGIN:VTIMEZONE
TZID:America/New_York
BEGIN:DAYLIGHT
TZOFFSETFROM:-0500
TZOFFSETTO:-0400
TZNAME:EDT
DTSTART:20220313T070000
END:DAYLIGHT
BEGIN:STANDARD
TZOFFSETFROM:-0400
TZOFFSETTO:-0500
TZNAME:EST
DTSTART:20221106T060000
END:STANDARD
END:VTIMEZONE
BEGIN:VEVENT
DTSTART;TZID=America/New_York:20221024T170000
DTEND;TZID=America/New_York:20221024T180000
DTSTAMP:20260420T135114
CREATED:20220921T151320Z
LAST-MODIFIED:20221014T160057Z
UID:10000135-1666630800-1666634400@hfa.mindstaging.com
SUMMARY:Sound Immersion Meditation
DESCRIPTION:Using a combination of tuning forks\, Himalayan singing bowls\, gongs\, and other instruments\, prepare to be immersed in sound and vibration to release stress and induce a deeply meditative state. \nThe soothing pulses can ease energy blockages\, regulate sleep\, and gain clarity. Each session will target a specific symptom\, using different instruments and methods. \nClass length: 55 minutes \nInstructor Bio: Lori Stahl is a Vibrational Sound Therapist. She is a certified practitioner of Biofield Tuning and Vibrational Sound Therapy certified by the Vibrational Sound Association and VFRT (vibrational fascia release technique) certified by the NEHC Academy. She is also honored to be a student of Dr. John Beaulieu\, one of the foremost philosophers and major innovators in the area of sound healing therapies. \nClass Fee: $20.00
URL:http://hfa.mindstaging.com/event/sound-immersion-meditation-2022-10-24/
LOCATION:Hempfield Apothetique\, 100 West Walnut Street\, Lancaster\, PA\, 17603\, United States
CATEGORIES:Wellness Classes
ATTACH;FMTTYPE=image/jpeg:http://hfa.mindstaging.com/wp-content/uploads/2022/09/hempfield_0005.jpg
END:VEVENT
BEGIN:VEVENT
DTSTART;TZID=America/New_York:20221017T170000
DTEND;TZID=America/New_York:20221017T180000
DTSTAMP:20260420T135114
CREATED:20220921T151320Z
LAST-MODIFIED:20221014T155750Z
UID:10000134-1666026000-1666029600@hfa.mindstaging.com
SUMMARY:Sound Immersion Meditation
DESCRIPTION:Using a combination of tuning forks\, Himalayan singing bowls\, gongs\, and other instruments\, prepare to be immersed in sound and vibration to release stress and induce a deeply meditative state. \nThe soothing pulses can ease energy blockages\, regulate sleep\, and gain clarity. Each session will target a specific symptom\, using different instruments and methods. \nClass length: 55 minutes \nInstructor Bio: Lori Stahl is a Vibrational Sound Therapist. She is a certified practitioner of Biofield Tuning and Vibrational Sound Therapy certified by the Vibrational Sound Association and VFRT (vibrational fascia release technique) certified by the NEHC Academy. She is also honored to be a student of Dr. John Beaulieu\, one of the foremost philosophers and major innovators in the area of sound healing therapies. \nClass Fee: $20.00
URL:http://hfa.mindstaging.com/event/sound-immersion-meditation-2022-10-17/
LOCATION:Hempfield Apothetique\, 100 West Walnut Street\, Lancaster\, PA\, 17603\, United States
CATEGORIES:Wellness Classes
ATTACH;FMTTYPE=image/jpeg:http://hfa.mindstaging.com/wp-content/uploads/2022/09/hempfield_0005.jpg
END:VEVENT
BEGIN:VEVENT
DTSTART;TZID=America/New_York:20221010T170000
DTEND;TZID=America/New_York:20221010T180000
DTSTAMP:20260420T135114
CREATED:20220921T151320Z
LAST-MODIFIED:20220921T152145Z
UID:10000133-1665421200-1665424800@hfa.mindstaging.com
SUMMARY:Sound Immersion Meditation
DESCRIPTION:Using a combination of tuning forks\, Himalayan singing bowls\, gongs\, and other instruments\, prepare to be immersed in sound and vibration to release stress and induce a deeply meditative state. \nThe soothing pulses can ease energy blockages\, regulate sleep\, and gain clarity. Each session will target a specific symptom\, using different instruments and methods. \nClass length: 55 minutes
URL:http://hfa.mindstaging.com/event/sound-immersion-meditation-2022-10-10/
LOCATION:Hempfield Apothetique\, 100 West Walnut Street\, Lancaster\, PA\, 17603\, United States
CATEGORIES:Wellness Classes
ATTACH;FMTTYPE=image/jpeg:http://hfa.mindstaging.com/wp-content/uploads/2022/06/Sound-Bath.jpg
END:VEVENT
BEGIN:VEVENT
DTSTART;TZID=America/New_York:20221003T170000
DTEND;TZID=America/New_York:20221003T180000
DTSTAMP:20260420T135114
CREATED:20220921T151320Z
LAST-MODIFIED:20220929T151802Z
UID:10000132-1664816400-1664820000@hfa.mindstaging.com
SUMMARY:Sound Immersion Meditation
DESCRIPTION:Using a combination of tuning forks\, Himalayan singing bowls\, gongs\, and other instruments\, prepare to be immersed in sound and vibration to release stress and induce a deeply meditative state. \nThe soothing pulses can ease energy blockages\, regulate sleep\, and gain clarity. Each session will target a specific symptom\, using different instruments and methods. \nClass length: 55 minutes
URL:http://hfa.mindstaging.com/event/sound-immersion-meditation/
LOCATION:Hempfield Apothetique\, 100 West Walnut Street\, Lancaster\, PA\, 17603\, United States
CATEGORIES:Wellness Classes
ATTACH;FMTTYPE=image/jpeg:http://hfa.mindstaging.com/wp-content/uploads/2022/06/Sound-Bath.jpg
END:VEVENT
BEGIN:VEVENT
DTSTART;TZID=America/New_York:20220926T170000
DTEND;TZID=America/New_York:20220926T180000
DTSTAMP:20260420T135114
CREATED:20220718T161256Z
LAST-MODIFIED:20220923T170029Z
UID:10000084-1664211600-1664215200@hfa.mindstaging.com
SUMMARY:Sound Immersion Meditation
DESCRIPTION:Using a combination of tuning forks\, Himalayan singing bowls\, gongs\, and other instruments\, prepare to be immersed in sound and vibration to release stress and induce a deeply meditative state. \nThe soothing pulses can ease energy blockages\, regulate sleep\, and gain clarity. Each session will target a specific symptom\, using different instruments and methods. \nClass length: 55 minutes
URL:http://hfa.mindstaging.com/event/sound-immersion-meditation-2022-09-26/
LOCATION:Hempfield Apothetique\, 100 West Walnut Street\, Lancaster\, PA\, 17603\, United States
CATEGORIES:Wellness Classes
ATTACH;FMTTYPE=image/jpeg:http://hfa.mindstaging.com/wp-content/uploads/2022/06/Sound-Bath.jpg
END:VEVENT
BEGIN:VEVENT
DTSTART;TZID=America/New_York:20220919T170000
DTEND;TZID=America/New_York:20220919T180000
DTSTAMP:20260420T135114
CREATED:20220718T161256Z
LAST-MODIFIED:20220919T134306Z
UID:10000083-1663606800-1663610400@hfa.mindstaging.com
SUMMARY:Sound Immersion Meditation
DESCRIPTION:Using a combination of tuning forks\, Himalayan singing bowls\, gongs\, and other instruments\, prepare to be immersed in sound and vibration to release stress and induce a deeply meditative state. \nThe soothing pulses can ease energy blockages\, regulate sleep\, and gain clarity. Each session will target a specific symptom\, using different instruments and methods. \nClass length: 55 minutes
URL:http://hfa.mindstaging.com/event/sound-immersion-meditation-2022-09-19/
LOCATION:Hempfield Apothetique\, 100 West Walnut Street\, Lancaster\, PA\, 17603\, United States
CATEGORIES:Wellness Classes
ATTACH;FMTTYPE=image/jpeg:http://hfa.mindstaging.com/wp-content/uploads/2022/06/Sound-Bath.jpg
END:VEVENT
BEGIN:VEVENT
DTSTART;TZID=America/New_York:20220912T170000
DTEND;TZID=America/New_York:20220912T180000
DTSTAMP:20260420T135114
CREATED:20220718T161256Z
LAST-MODIFIED:20220910T163701Z
UID:10000082-1663002000-1663005600@hfa.mindstaging.com
SUMMARY:Sound Immersion Meditation
DESCRIPTION:Using a combination of tuning forks\, Himalayan singing bowls\, gongs\, and other instruments\, prepare to be immersed in sound and vibration to release stress and induce a deeply meditative state. \nThe soothing pulses can ease energy blockages\, regulate sleep\, and gain clarity. Each session will target a specific symptom\, using different instruments and methods. \nClass length: 55 minutes
URL:http://hfa.mindstaging.com/event/sound-immersion-meditation-2022-09-12/
LOCATION:Hempfield Apothetique\, 100 West Walnut Street\, Lancaster\, PA\, 17603\, United States
CATEGORIES:Wellness Classes
ATTACH;FMTTYPE=image/jpeg:http://hfa.mindstaging.com/wp-content/uploads/2022/06/Sound-Bath.jpg
END:VEVENT
BEGIN:VEVENT
DTSTART;TZID=America/New_York:20220829T170000
DTEND;TZID=America/New_York:20220829T180000
DTSTAMP:20260420T135114
CREATED:20220718T161256Z
LAST-MODIFIED:20220718T174057Z
UID:10000081-1661792400-1661796000@hfa.mindstaging.com
SUMMARY:Sound Immersion Meditation
DESCRIPTION:Using a combination of tuning forks\, Himalayan singing bowls\, gongs\, and other instruments\, prepare to be immersed in sound and vibration to release stress and induce a deeply meditative state. \nThe soothing pulses can ease energy blockages\, regulate sleep\, and gain clarity. Each session will target a specific symptom\, using different instruments and methods. \nClass length: 55 minutes
URL:http://hfa.mindstaging.com/event/sound-immersion-meditation-2022-08-29/
LOCATION:Hempfield Apothetique\, 100 West Walnut Street\, Lancaster\, PA\, 17603\, United States
CATEGORIES:Wellness Classes
ATTACH;FMTTYPE=image/jpeg:http://hfa.mindstaging.com/wp-content/uploads/2022/06/Sound-Bath.jpg
END:VEVENT
BEGIN:VEVENT
DTSTART;TZID=America/New_York:20220822T170000
DTEND;TZID=America/New_York:20220822T180000
DTSTAMP:20260420T135114
CREATED:20220718T161256Z
LAST-MODIFIED:20220718T174035Z
UID:10000080-1661187600-1661191200@hfa.mindstaging.com
SUMMARY:Sound Immersion Meditation
DESCRIPTION:Using a combination of tuning forks\, Himalayan singing bowls\, gongs\, and other instruments\, prepare to be immersed in sound and vibration to release stress and induce a deeply meditative state. \nThe soothing pulses can ease energy blockages\, regulate sleep\, and gain clarity. Each session will target a specific symptom\, using different instruments and methods. \nClass length: 55 minutes
URL:http://hfa.mindstaging.com/event/sound-immersion-meditation-2022-08-22/
LOCATION:Hempfield Apothetique\, 100 West Walnut Street\, Lancaster\, PA\, 17603\, United States
CATEGORIES:Wellness Classes
ATTACH;FMTTYPE=image/jpeg:http://hfa.mindstaging.com/wp-content/uploads/2022/06/Sound-Bath.jpg
END:VEVENT
BEGIN:VEVENT
DTSTART;TZID=America/New_York:20220821T190000
DTEND;TZID=America/New_York:20220821T203000
DTSTAMP:20260420T135114
CREATED:20220801T160919Z
LAST-MODIFIED:20220821T132546Z
UID:10000088-1661108400-1661113800@hfa.mindstaging.com
SUMMARY:Sound Immersion | Sonic Meditation with Joseph Schmidlin
DESCRIPTION:Taught by Joseph Schmidlin and Michael Jay in partnership with Vibrational Sound Therapy Center \n\n\n\nSound Bath Meditations are a holistic way to achieve a deep state of relaxation and interconnectedness. During a sound bath meditation\, we effortlessly align ourselves into a state of quantum coherence where all aspects of our selves (body\, mind and spirit) are in unified resonance with each other. During and for days after many people report great relief from pain\, stress and anxiety\, allowing the body’s self-healing mechanism to operate effortlessly and integral. This brings a calmness of mind which allows us unfiltered access to our inner guidance.\n\n\n\nJoseph Schmidlin is a classical Osteopath with 30 years of training\, teaching and practice in the field of energy medicine. Known for his “healing touch”\, his practice and teaching are grounded in the principle that each person\, like the natural world\, is a whole\, self-correcting entity\, with each part affecting every other as well as contributing to the integrity of the whole. His practice encompasses Traditional Chinese Medicine\, Ayurveda\, Zero Balancing\, Lymphatic Drainage\, Visceral Manipulation\, Massage Therapy\, Cranial-sacral technique\, Nada yoga\, and Sonic Vibrational Medicine. He frequently leads trainings\, retreats\, sound immersions and meditations around the world. He is involved in several creative artistic projects including “Sonic Universe Now (S.U.N.)”\, “Sonic Alchemical environment”\, “Time Slip” and most recently the theatre troop Velvet Noose.\n\n\n\nMichael Jay is one of the first US students of grand gongmaster Don Conreaux. A frequent Sound facilitator at Sage Academy and throughout the Northeast. Offering sound immersions and conscious explorations & is the director of therapeutic sound at “you can thrive”.
URL:http://hfa.mindstaging.com/event/sound-immersion-sonic-meditation-with-joseph-schmidlin/
LOCATION:Hempfield Apothetique\, 100 West Walnut Street\, Lancaster\, PA\, 17603\, United States
CATEGORIES:Wellness Classes
ATTACH;FMTTYPE=image/jpeg:http://hfa.mindstaging.com/wp-content/uploads/2022/08/296258769_721100465633373_88043902982694441_n.jpg
END:VEVENT
BEGIN:VEVENT
DTSTART;TZID=America/New_York:20220815T170000
DTEND;TZID=America/New_York:20220815T180000
DTSTAMP:20260420T135114
CREATED:20220718T161256Z
LAST-MODIFIED:20220718T174000Z
UID:10000079-1660582800-1660586400@hfa.mindstaging.com
SUMMARY:Sound Immersion Meditation
DESCRIPTION:Using a combination of tuning forks\, Himalayan singing bowls\, gongs\, and other instruments\, prepare to be immersed in sound and vibration to release stress and induce a deeply meditative state. \nThe soothing pulses can ease energy blockages\, regulate sleep\, and gain clarity. Each session will target a specific symptom\, using different instruments and methods. \nClass length: 55 minutes
URL:http://hfa.mindstaging.com/event/sound-immersion-meditation-2022-08-15/
LOCATION:Hempfield Apothetique\, 100 West Walnut Street\, Lancaster\, PA\, 17603\, United States
CATEGORIES:Wellness Classes
ATTACH;FMTTYPE=image/jpeg:http://hfa.mindstaging.com/wp-content/uploads/2022/06/Sound-Bath.jpg
END:VEVENT
BEGIN:VEVENT
DTSTART;TZID=America/New_York:20220808T170000
DTEND;TZID=America/New_York:20220808T180000
DTSTAMP:20260420T135114
CREATED:20220718T161256Z
LAST-MODIFIED:20220718T173609Z
UID:10000078-1659978000-1659981600@hfa.mindstaging.com
SUMMARY:Sound Immersion Meditation
DESCRIPTION:Using a combination of tuning forks\, Himalayan singing bowls\, gongs\, and other instruments\, prepare to be immersed in sound and vibration to release stress and induce a deeply meditative state. \nThe soothing pulses can ease energy blockages\, regulate sleep\, and gain clarity. Each session will target a specific symptom\, using different instruments and methods. \nClass length: 55 minutes
URL:http://hfa.mindstaging.com/event/sound-immersion-meditation-2022-08-08/
LOCATION:Hempfield Apothetique\, 100 West Walnut Street\, Lancaster\, PA\, 17603\, United States
CATEGORIES:Wellness Classes
ATTACH;FMTTYPE=image/jpeg:http://hfa.mindstaging.com/wp-content/uploads/2022/06/Sound-Bath.jpg
END:VEVENT
BEGIN:VEVENT
DTSTART;TZID=America/New_York:20220725T170000
DTEND;TZID=America/New_York:20220725T180000
DTSTAMP:20260420T135114
CREATED:20220718T161256Z
LAST-MODIFIED:20220718T173709Z
UID:10000076-1658768400-1658772000@hfa.mindstaging.com
SUMMARY:Sound Immersion Meditation
DESCRIPTION:Using a combination of tuning forks\, Himalayan singing bowls\, gongs\, and other instruments\, prepare to be immersed in sound and vibration to release stress and induce a deeply meditative state. \nThe soothing pulses can ease energy blockages\, regulate sleep\, and gain clarity. Each session will target a specific symptom\, using different instruments and methods. \nClass length: 55 minutes
URL:http://hfa.mindstaging.com/event/sound-immersion-meditation-2022-07-25/
LOCATION:Hempfield Apothetique\, 100 West Walnut Street\, Lancaster\, PA\, 17603\, United States
ATTACH;FMTTYPE=image/jpeg:http://hfa.mindstaging.com/wp-content/uploads/2022/06/Sound-Bath.jpg
END:VEVENT
BEGIN:VEVENT
DTSTART;TZID=America/New_York:20220718T170000
DTEND;TZID=America/New_York:20220718T180000
DTSTAMP:20260420T135114
CREATED:20220718T161256Z
LAST-MODIFIED:20220718T173914Z
UID:10000077-1658163600-1658167200@hfa.mindstaging.com
SUMMARY:Sound Immersion Meditation
DESCRIPTION:Using a combination of tuning forks\, Himalayan singing bowls\, gongs\, and other instruments\, prepare to be immersed in sound and vibration to release stress and induce a deeply meditative state. \nThe soothing pulses can ease energy blockages\, regulate sleep\, and gain clarity. Each session will target a specific symptom\, using different instruments and methods. \nClass length: 55 minutes
URL:http://hfa.mindstaging.com/event/sound-immersion-meditation-2022-08-01/
LOCATION:Hempfield Apothetique\, 100 West Walnut Street\, Lancaster\, PA\, 17603\, United States
CATEGORIES:Wellness Classes
ATTACH;FMTTYPE=image/jpeg:http://hfa.mindstaging.com/wp-content/uploads/2022/06/Sound-Bath.jpg
END:VEVENT
END:VCALENDAR